BEGIN:VCALENDAR
VERSION:2.0
PRODID:-//De Pionier - ECPv6.15.20//NONSGML v1.0//EN
CALSCALE:GREGORIAN
METHOD:PUBLISH
X-ORIGINAL-URL:https://de-pionier.nl
X-WR-CALDESC:Evenementen voor De Pionier
REFRESH-INTERVAL;VALUE=DURATION:PT1H
X-Robots-Tag:noindex
X-PUBLISHED-TTL:PT1H
BEGIN:VTIMEZONE
TZID:Europe/Amsterdam
BEGIN:DAYLIGHT
TZOFFSETFROM:+0100
TZOFFSETTO:+0200
TZNAME:CEST
DTSTART:20250330T010000
END:DAYLIGHT
BEGIN:STANDARD
TZOFFSETFROM:+0200
TZOFFSETTO:+0100
TZNAME:CET
DTSTART:20251026T010000
END:STANDARD
BEGIN:DAYLIGHT
TZOFFSETFROM:+0100
TZOFFSETTO:+0200
TZNAME:CEST
DTSTART:20260329T010000
END:DAYLIGHT
BEGIN:STANDARD
TZOFFSETFROM:+0200
TZOFFSETTO:+0100
TZNAME:CET
DTSTART:20261025T010000
END:STANDARD
BEGIN:DAYLIGHT
TZOFFSETFROM:+0100
TZOFFSETTO:+0200
TZNAME:CEST
DTSTART:20270328T010000
END:DAYLIGHT
BEGIN:STANDARD
TZOFFSETFROM:+0200
TZOFFSETTO:+0100
TZNAME:CET
DTSTART:20271031T010000
END:STANDARD
END:VTIMEZONE
BEGIN:VEVENT
DTSTART;TZID=Europe/Amsterdam:20260402T100000
DTEND;TZID=Europe/Amsterdam:20260402T120000
DTSTAMP:20260419T214110
CREATED:20260204T073310Z
LAST-MODIFIED:20260204T073310Z
UID:1423-1775124000-1775131200@de-pionier.nl
SUMMARY:Bestuur
DESCRIPTION:Besturen is vooruitzien …
URL:https://de-pionier.nl/activiteit/bestuur-4/
LOCATION:Zaal 6
CATEGORIES:Bestuur
END:VEVENT
BEGIN:VEVENT
DTSTART;TZID=Europe/Amsterdam:20260507T100000
DTEND;TZID=Europe/Amsterdam:20260507T120000
DTSTAMP:20260419T214110
CREATED:20260204T073310Z
LAST-MODIFIED:20260204T073310Z
UID:1424-1778148000-1778155200@de-pionier.nl
SUMMARY:Bestuur
DESCRIPTION:Besturen is vooruitzien …
URL:https://de-pionier.nl/activiteit/bestuur-5/
LOCATION:Zaal 6
CATEGORIES:Bestuur
END:VEVENT
BEGIN:VEVENT
DTSTART;TZID=Europe/Amsterdam:20260604T100000
DTEND;TZID=Europe/Amsterdam:20260604T120000
DTSTAMP:20260419T214110
CREATED:20260204T073314Z
LAST-MODIFIED:20260204T073314Z
UID:1425-1780567200-1780574400@de-pionier.nl
SUMMARY:Bestuur
DESCRIPTION:Besturen is vooruitzien …
URL:https://de-pionier.nl/activiteit/bestuur-6/
LOCATION:Zaal 6
CATEGORIES:Bestuur
END:VEVENT
BEGIN:VEVENT
DTSTART;TZID=Europe/Amsterdam:20260702T100000
DTEND;TZID=Europe/Amsterdam:20260702T120000
DTSTAMP:20260419T214110
CREATED:20260204T073314Z
LAST-MODIFIED:20260204T073314Z
UID:1426-1782986400-1782993600@de-pionier.nl
SUMMARY:Bestuur
DESCRIPTION:Besturen is vooruitzien …
URL:https://de-pionier.nl/activiteit/bestuur-7/
LOCATION:Zaal 6
CATEGORIES:Bestuur
END:VEVENT
BEGIN:VEVENT
DTSTART;TZID=Europe/Amsterdam:20260903T100000
DTEND;TZID=Europe/Amsterdam:20260903T120000
DTSTAMP:20260419T214110
CREATED:20260204T073314Z
LAST-MODIFIED:20260204T073314Z
UID:1427-1788429600-1788436800@de-pionier.nl
SUMMARY:Bestuur
DESCRIPTION:Besturen is vooruitzien …
URL:https://de-pionier.nl/activiteit/bestuur-8/
LOCATION:Zaal 6
CATEGORIES:Bestuur
END:VEVENT
BEGIN:VEVENT
DTSTART;TZID=Europe/Amsterdam:20261001T100000
DTEND;TZID=Europe/Amsterdam:20261001T120000
DTSTAMP:20260419T214110
CREATED:20260204T073314Z
LAST-MODIFIED:20260204T073314Z
UID:1428-1790848800-1790856000@de-pionier.nl
SUMMARY:Bestuur
DESCRIPTION:Besturen is vooruitzien …
URL:https://de-pionier.nl/activiteit/bestuur-9/
LOCATION:Zaal 6
CATEGORIES:Bestuur
END:VEVENT
BEGIN:VEVENT
DTSTART;TZID=Europe/Amsterdam:20261105T100000
DTEND;TZID=Europe/Amsterdam:20261105T120000
DTSTAMP:20260419T214110
CREATED:20260204T073314Z
LAST-MODIFIED:20260204T073314Z
UID:1429-1793872800-1793880000@de-pionier.nl
SUMMARY:Bestuur
DESCRIPTION:Besturen is vooruitzien …
URL:https://de-pionier.nl/activiteit/bestuur-10/
LOCATION:Zaal 6
CATEGORIES:Bestuur
END:VEVENT
BEGIN:VEVENT
DTSTART;TZID=Europe/Amsterdam:20261203T100000
DTEND;TZID=Europe/Amsterdam:20261203T120000
DTSTAMP:20260419T214110
CREATED:20260204T073327Z
LAST-MODIFIED:20260204T073327Z
UID:1430-1796292000-1796299200@de-pionier.nl
SUMMARY:Bestuur
DESCRIPTION:Besturen is vooruitzien …
URL:https://de-pionier.nl/activiteit/bestuur-11/
LOCATION:Zaal 6
CATEGORIES:Bestuur
END:VEVENT
END:VCALENDAR